BEGIN:VCALENDAR
VERSION:2.0
PRODID:-//Healing Spirit with Love - ECPv6.15.15//NONSGML v1.0//EN
CALSCALE:GREGORIAN
METHOD:PUBLISH
X-ORIGINAL-URL:https://healingspiritwithlove.com
X-WR-CALDESC:Events for Healing Spirit with Love
REFRESH-INTERVAL;VALUE=DURATION:PT1H
X-Robots-Tag:noindex
X-PUBLISHED-TTL:PT1H
BEGIN:VTIMEZONE
TZID:America/New_York
BEGIN:DAYLIGHT
TZOFFSETFROM:-0500
TZOFFSETTO:-0400
TZNAME:EDT
DTSTART:20160313T070000
END:DAYLIGHT
BEGIN:STANDARD
TZOFFSETFROM:-0400
TZOFFSETTO:-0500
TZNAME:EST
DTSTART:20161106T060000
END:STANDARD
BEGIN:DAYLIGHT
TZOFFSETFROM:-0500
TZOFFSETTO:-0400
TZNAME:EDT
DTSTART:20170312T070000
END:DAYLIGHT
BEGIN:STANDARD
TZOFFSETFROM:-0400
TZOFFSETTO:-0500
TZNAME:EST
DTSTART:20171105T060000
END:STANDARD
BEGIN:DAYLIGHT
TZOFFSETFROM:-0500
TZOFFSETTO:-0400
TZNAME:EDT
DTSTART:20180311T070000
END:DAYLIGHT
BEGIN:STANDARD
TZOFFSETFROM:-0400
TZOFFSETTO:-0500
TZNAME:EST
DTSTART:20181104T060000
END:STANDARD
END:VTIMEZONE
BEGIN:VEVENT
DTSTART;TZID=America/New_York:20171027T170000
DTEND;TZID=America/New_York:20171027T210000
DTSTAMP:20260421T171707
CREATED:20170523T182222Z
LAST-MODIFIED:20171021T203522Z
UID:1660-1509123600-1509138000@healingspiritwithlove.com
SUMMARY:Empowered Light Holistic Expo
DESCRIPTION:Join Spirit Medium Karen T. Hluchan and more than 100 wonderful holistic vendors and healers at the Empowered Light Holistic Expo at the Greater Philadelphia Expo Center in Oaks\, PA! \nEnjoy an amazing weekend of meditations\, yoga\, crystals\, food samples\, jewelry\, readings\, presentations\, and more! \nThe Merry Monarch\, which symbolizes joy and transformation\, by Spirit Medium Karen T. Hluchan\nStop by Karen’s booth #100 for a spirit medium reading or angel reading (standard pricing applies for 1-hour and 30-minute readings\, and there will be an option for a 15-minute reading for $40)\, to learn about your spirit animal through her fine art Spirit Animal Art prints\, purchase a signed hardcover edition of Karen’s book “How Have You Loved?“\, and enter your name into her drawing for a 30-minute individual spirit medium reading! \nOn Saturday\, October 28 at 2:30pm in the Awaken Room\, Karen will be presenting a 1-hour “Messages from the Other Side” presentation in which she will be talking about mediumship and bringing through loved ones in spirit. Participants of her presentation will have the opportunity to enter their name into her special drawing for a signed hardcover edition of her book\, “How Have You Loved?” \nShow hours: \nFriday\, October 27           5pm – 9pm        $7.50 Admission \nSaturday\, October 28     10am – 6pm      $15 Admission \nSunday\, October 29        10am – 6pm      $15 Admission \nWeekend passes are also available for $27. Plenty of free parking\, too! \nTo learn more about this Expo\, visit: http://www.empoweredlight.com/ \nLooking forward to seeing you there!
URL:https://healingspiritwithlove.com/event/empowered-light-holistic-expo-4/
LOCATION:The Greater Philadelphia Expo Center at Oaks\, 100 Station Avenue\, Oaks\, PA\, 19456\, United States
CATEGORIES:Angel Readings,Art,Book Signing,Holistic Expo,Mediumship,Mediumship Demo and Book Signing,Mediumship Spiritual Art and Book Signing,Readings,shopping,Spirit Medium Readings,Spiritual Art,Spiritual Expo
END:VEVENT
BEGIN:VEVENT
DTSTART;TZID=America/New_York:20170909T100000
DTEND;TZID=America/New_York:20170909T170000
DTSTAMP:20260421T171707
CREATED:20170618T182026Z
LAST-MODIFIED:20170905T154041Z
UID:1688-1504951200-1504976400@healingspiritwithlove.com
SUMMARY:Best Psychic Fair in Phoenixville\, PA!
DESCRIPTION:Enjoy a beautiful day of readings and shopping with a great selection of spiritual vendors in the heart of downtown Phoenixville\, PA (across from Molly McGuire’s)! \nStop by Spirit Medium Karen T. Hluchan’s booth for a reading (standard pricing applies for 30-minute and 1-hour readings with the added option for a 15-minute reading for $40)\, to purchase a signed edition of her book How Have You Loved?\, or discover your spirit animal through Karen’s signed Spirit Animal Art prints and greeting cards. With every purchase of Spirit Animal Art prints and greeting cards\, Karen donates to the World Wildlife Fund to support wildlife conservation. \nSpecial Gallery Reading by Karen at 5pm! \nExperience the light and love of Heaven with Spirit Medium Karen T. Hluchan during her special gallery reading at 5pm! After speaking briefly about how spirit communication works\, Karen will actively communicate with loved ones in spirit for those in attendance\, bringing through unique information to help you identify and claim your loved ones\, as well as sharing their messages with you. Even if you do not receive a direct message from spirit\, there are always messages within the messages for all who attend and fascinating themes that emerge through the communications. Be embraced by the love and light of Heaven\, as you witness Karen’s amazing connection with Other Side. There is a $10 fee for this special event. Seating is limited and will be provided on a first-come\, first serve basis onsite at the event. \nAs a bonus during the Fair\, Karen is hosting a drawing at her booth for a $40 gift certificate\, good towards any of the products and services she offers. \nCome on out and explore your past\, present\, and future through this wonderful event hosted by Best Psychic Source based in Phoenixville\, PA! \nLooking forward to seeing you there! \n 
URL:https://healingspiritwithlove.com/event/best-psychic-fair-in-phoenixville-pa/
LOCATION:Across from Molly McGuire’s\, 197 Bridge Street\, Phoenixville\, PA\, 19460\, United States
CATEGORIES:Angel Readings,Art,Book Signing,Holistic Expo,Mediumship,Mediumship Demo and Book Signing,Mediumship Spiritual Art and Book Signing,Readings,shopping,Spirit Medium Readings,Spiritual Art,Spiritual Expo
END:VEVENT
BEGIN:VEVENT
DTSTART;TZID=America/New_York:20170728T190000
DTEND;TZID=America/New_York:20170728T220000
DTSTAMP:20260421T171707
CREATED:20170714T173837Z
LAST-MODIFIED:20170714T183055Z
UID:1836-1501268400-1501279200@healingspiritwithlove.com
SUMMARY:Wine\, Woo and Spirit Night - A Ladies Night Out Benefit for Sisters U in Perkasie!
DESCRIPTION:Enjoy a wonderful evening of connecting with the self and others with loving practitioners dedicated to healing the mind\, body\, and soul who will be sharing their gifts with you. Spirit Medium Karen T. Hluchan will be providing free mediumship demonstrations\, and will be hosting a booth at the event in which her personally signed Spirit Animal Art and hardcover edition of her book\, How Have You Loved? will be available for purchase. \nAs a bonus during the event\, Karen will be hosting a drawing for a signed 9″x12″ Spirit Animal Art print of your choice. \nThis event is a benefit for the Sisters U non-profit that helps empower women in all areas of their lives to reach their full potential through heartfelt connections\, support\, and inspiration. \nTo learn more about this event\, click on this link to visit the Sisters U website. \nHope to see you there!
URL:https://healingspiritwithlove.com/event/wine-woo-and-spirit-night-a-ladies-night-out-benefit-for-sisters-u-in-perkasie/
LOCATION:Sisters U\, 528 West Market Street\, Perkasie\, 18944\, United States
CATEGORIES:Art,Book Signing,Charity Event,Holistic Expo,Ladies Night Out,Mediumship,Mediumship Demo and Book Signing,Spirit Medium Readings,Spiritual Expo
ORGANIZER;CN="Sisters U":MAILTO:info@sistersu.com
END:VEVENT
BEGIN:VEVENT
DTSTART;TZID=America/New_York:20170430T100000
DTEND;TZID=America/New_York:20170430T180000
DTSTAMP:20260421T171707
CREATED:20170108T135220Z
LAST-MODIFIED:20170117T173432Z
UID:1381-1493546400-1493575200@healingspiritwithlove.com
SUMMARY:Empowered Light Holistic Expo
DESCRIPTION:Join Spirit Medium Karen T. Hluchan and more than 100 wonderful holistic vendors and healers at the Empowered Light Holistic Expo at the Greater Philadelphia Expo Center in Oaks\, PA! \nEnjoy an amazing weekend of meditations\, yoga\, crystals\, food samples\, jewelry\, readings\, presentations\, and more! \nZephyr the Zebra\, who represents the untamed spirit and travel\, by Karen T Hluchan\nStop by Karen’s booth #100 for a spirit medium reading or angel reading (standard pricing applies for 1-hour and 30-minute readings\, and there will be an option for a 15-minute reading for $40)\, to learn about your spirit animal through her fine art Spirit Animal Art prints\, purchase a signed hardcover edition of Karen’s book “How Have You Loved?“\, and enter your name into her drawing for a 30-minute individual spirit medium reading! \nKaren will be presenting a 1-hour “Messages from the Other Side” presentation in which she will be talking about mediumship and bringing through loved ones in spirit. Participants of her presentation will have the opportunity to enter their name into her special drawing for a signed hardcover edition of her book\, “How Have You Loved?” Time and date to be announced. \n  \nShow hours: \nFriday\, April 28       5pm – 9pm        $5 Admission \nSaturday\, April 29     10am – 6pm      $10 Admission \nSunday\, April 30     10am – 6pm      $10 Admission \nWeekend passes are also available for $20. Plenty of free parking\, too! \n  \nTo learn more about this Expo\, visit: http://www.empoweredlight.com/ \nHope to see you there!
URL:https://healingspiritwithlove.com/event/empowered-light-holistic-expo-3/
LOCATION:The Greater Philadelphia Expo Center at Oaks\, 100 Station Avenue\, Oaks\, PA\, 19456\, United States
CATEGORIES:Art,Book Signing,Festival,Holistic Expo,Mediumship,Mediumship Demo and Book Signing,Mediumship Spiritual Art and Book Signing,Readings,shopping,Spirit Communication Workshop,Spiritual Art,Spiritual Expo
END:VEVENT
BEGIN:VEVENT
DTSTART;TZID=America/New_York:20170429T100000
DTEND;TZID=America/New_York:20170429T180000
DTSTAMP:20260421T171707
CREATED:20170108T134943Z
LAST-MODIFIED:20170117T173333Z
UID:1379-1493460000-1493488800@healingspiritwithlove.com
SUMMARY:Empowered Light Holistic Expo
DESCRIPTION:Join Spirit Medium Karen T. Hluchan and more than 100 wonderful holistic vendors and healers at the Empowered Light Holistic Expo at the Greater Philadelphia Expo Center in Oaks\, PA! \nEnjoy an amazing weekend of meditations\, yoga\, crystals\, food samples\, jewelry\, readings\, presentations\, and more! \nZephyr the Zebra\, who represents the untamed spirit and travel\, by Karen T Hluchan\nStop by Karen’s booth #100 for a spirit medium reading or angel reading (standard pricing applies for 1-hour and 30-minute readings\, and there will be an option for a 15-minute reading for $40)\, to learn about your spirit animal through her fine art Spirit Animal Art prints\, purchase a signed hardcover edition of Karen’s book “How Have You Loved?“\, and enter your name into her drawing for a 30-minute individual spirit medium reading! \nKaren will be presenting a 1-hour “Messages from the Other Side” presentation in which she will be talking about mediumship and bringing through loved ones in spirit. Participants of her presentation will have the opportunity to enter their name into her special drawing for a signed hardcover edition of her book\, “How Have You Loved?” Time and date to be announced. \n  \nShow hours: \nFriday\, April 28       5pm – 9pm        $5 Admission \nSaturday\, April 29     10am – 6pm      $10 Admission \nSunday\, April 30     10am – 6pm      $10 Admission \nWeekend passes are also available for $20. Plenty of free parking\, too! \n  \nTo learn more about this Expo\, visit: http://www.empoweredlight.com/ \nHope to see you there!
URL:https://healingspiritwithlove.com/event/empowered-light-holistic-expo-2/
LOCATION:The Greater Philadelphia Expo Center at Oaks\, 100 Station Avenue\, Oaks\, PA\, 19456\, United States
CATEGORIES:Art,Book Signing,Festival,Holistic Expo,Mediumship,Mediumship Demo and Book Signing,Mediumship Spiritual Art and Book Signing,Readings,shopping,Spiritual Art,Spiritual Expo
END:VEVENT
BEGIN:VEVENT
DTSTART;TZID=America/New_York:20170428T170000
DTEND;TZID=America/New_York:20170428T210000
DTSTAMP:20260421T171707
CREATED:20170108T134543Z
LAST-MODIFIED:20170421T182904Z
UID:1373-1493398800-1493413200@healingspiritwithlove.com
SUMMARY:Empowered Light Holistic Expo
DESCRIPTION:Join Spirit Medium Karen T. Hluchan and more than 100 wonderful holistic vendors and healers at the Empowered Light Holistic Expo at the Greater Philadelphia Expo Center in Oaks\, PA! \nEnjoy an amazing weekend of meditations\, yoga\, crystals\, food samples\, jewelry\, readings\, presentations\, and more! \nZephyr the Zebra\, who represents the untamed spirit and travel\, by Karen T Hluchan\nStop by Karen’s booth #100 for a spirit medium reading or angel reading (standard pricing applies for 1-hour and 30-minute readings\, and there will be an option for a 15-minute reading for $40)\, to learn about your spirit animal through her fine art Spirit Animal Art prints\, purchase a signed hardcover edition of Karen’s book “How Have You Loved?“\, and enter your name into her drawing for a 30-minute individual spirit medium reading! \nKaren will be presenting a 1-hour “Messages from the Other Side” presentation on Saturday\, April 29 at 12 noon in which she will be talking about mediumship and bringing through loved ones in spirit. Participants of her presentation will have the opportunity to enter their name into her special drawing for a signed hardcover edition of her book\, “How Have You Loved?” \n  \nShow hours: \nFriday\, April 28       5pm – 9pm        $5 Admission \nSaturday\, April 29     10am – 6pm      $10 Admission \nSunday\, April 30     10am – 6pm      $10 Admission \nWeekend passes are also available for $20. Plenty of free parking\, too! \n  \nTo learn more about this Expo\, visit: http://www.empoweredlight.com/ \n  \n  \nHope to see you there! \n 
URL:https://healingspiritwithlove.com/event/empowered-light-holistic-expo/
LOCATION:The Greater Philadelphia Expo Center at Oaks\, 100 Station Avenue\, Oaks\, PA\, 19456\, United States
CATEGORIES:Art,Book Signing,Festival,Holistic Expo,Mediumship,Mediumship Demo and Book Signing,Mediumship Spiritual Art and Book Signing,Readings,shopping,Spiritual Art,Spiritual Expo
END:VEVENT
END:VCALENDAR