BEGIN:VCALENDAR
VERSION:2.0
PRODID:-//Healing Spirit with Love - ECPv6.15.15//NONSGML v1.0//EN
CALSCALE:GREGORIAN
METHOD:PUBLISH
X-ORIGINAL-URL:https://healingspiritwithlove.com
X-WR-CALDESC:Events for Healing Spirit with Love
REFRESH-INTERVAL;VALUE=DURATION:PT1H
X-Robots-Tag:noindex
X-PUBLISHED-TTL:PT1H
BEGIN:VTIMEZONE
TZID:UTC
BEGIN:STANDARD
TZOFFSETFROM:+0000
TZOFFSETTO:+0000
TZNAME:UTC
DTSTART:20150101T000000
END:STANDARD
END:VTIMEZONE
BEGIN:VTIMEZONE
TZID:America/New_York
BEGIN:DAYLIGHT
TZOFFSETFROM:-0500
TZOFFSETTO:-0400
TZNAME:EDT
DTSTART:20150308T070000
END:DAYLIGHT
BEGIN:STANDARD
TZOFFSETFROM:-0400
TZOFFSETTO:-0500
TZNAME:EST
DTSTART:20151101T060000
END:STANDARD
BEGIN:DAYLIGHT
TZOFFSETFROM:-0500
TZOFFSETTO:-0400
TZNAME:EDT
DTSTART:20160313T070000
END:DAYLIGHT
BEGIN:STANDARD
TZOFFSETFROM:-0400
TZOFFSETTO:-0500
TZNAME:EST
DTSTART:20161106T060000
END:STANDARD
BEGIN:DAYLIGHT
TZOFFSETFROM:-0500
TZOFFSETTO:-0400
TZNAME:EDT
DTSTART:20170312T070000
END:DAYLIGHT
BEGIN:STANDARD
TZOFFSETFROM:-0400
TZOFFSETTO:-0500
TZNAME:EST
DTSTART:20171105T060000
END:STANDARD
END:VTIMEZONE
BEGIN:VEVENT
DTSTART;TZID=UTC:20161119T110000
DTEND;TZID=UTC:20161119T170000
DTSTAMP:20260421T183820
CREATED:20160831T002127Z
LAST-MODIFIED:20161007T204956Z
UID:968-1479553200-1479574800@healingspiritwithlove.com
SUMMARY:Holiday Open House at Peddler's Village!
DESCRIPTION:The Open House Festival is a wonderful way to kick-off the holiday season with delicious hot teas\, honey samplings\, and more at Bekky’s Village Workshop\, store 68\, in Peddler’s Village! \nWhile you are shopping and enjoying the quaint Open House atmosphere\, you can connect with your loved ones in spirit or receive guidance from the angels with a spirit medium reading or angel reading with Spirit Medium Karen T. Hluchan (standard pricing applies for 30-minute and 1-hour readings\, there is also the option of a 15-minute reading for $35). \nKaren will be on-hand to provide readings\, write personal inscriptions from your loved ones in spirit and the angels when you purchase her book How Have You Loved?\, and help you discover your spirit animal through her special Spirit Animal Art collection that supports wildlife conservation. Portions of the proceeds from the sales of Karen’s book and Spirit Animal Art will be donated to The Breathing Room Foundation. \nA plethora of unique gifts crafted by local artisans and authors\, as well as culinary treats can be found all in one shop – Bekky’s! During the Open House Festival\, there will be special events\, classes\, and more at Bekky’s. \nAs a bonus\, Karen will also be hosting a drawing during the Grand Illumination and Open House Festivals for a $30 gift certificate good towards products and services provided by Karen. \nWalk-ins are welcome for readings; however\, it is recommended that you book your reading in advance. \nTo book your reading today and guarantee the best time for you\, call 215-738-5538 or email Karen at SpiritMedium@comcast.net. \nHope to see you there!
URL:https://healingspiritwithlove.com/event/holiday-open-house-at-peddlers-village/
LOCATION:Let’s Steep (Bekky’s Village Workshop)\, Store #68 Peddler’s Village\, 5750 Upper York Road\, New Hope\, PA\, 18938\, United States
CATEGORIES:Art,Book Signing,Charity Event,Festival,Mediumship,Readings,shopping,Spiritual Art
END:VEVENT
BEGIN:VEVENT
DTSTART;TZID=America/New_York:20161118T170000
DTEND;TZID=America/New_York:20161118T210000
DTSTAMP:20260421T183820
CREATED:20160830T233845Z
LAST-MODIFIED:20161007T205232Z
UID:965-1479488400-1479502800@healingspiritwithlove.com
SUMMARY:Grand Illumination at Peddler's Village!
DESCRIPTION:Illuminate your night and your life at the Peddler’s Village Grand Illumination celebration! \nEnjoy the ceremonial lighting of the holiday decorations by Santa and his helpers at 6:15 sharp on Friday\, November 18th. This magical evening will be celebrated at Bekky’s Village Workshop\, store 68\, in Pedder’s Village\, with special tea and honey samplings\, as well as wonderful works by local artisans and authors. A plethora of unique gifts and treats can be found all in one shop – Bekky’s! During this celebration\, there will be special events and more at Bekky’s. \nWhile you are shopping and enjoying the celebration\, you can connect with your loved ones in spirit or receive guidance from the angels with a spirit medium reading or angel reading with Spirit Medium Karen T. Hluchan (standard pricing applies for 30-minute and 1-hour readings\, there is also the option of a 15-minute reading for $35). \nKaren will be on-hand to provide readings\, write personal inscriptions from your loved ones in spirit and the angels when you purchase her book How Have You Loved? You can also discover your spirit animal through her special Spirit Animal Art collection that supports wildlife conservation through donations Karen makes to the World Wildlife Fund. \nHot air cider and marshmallow roasting will be offered throughout the Village for all participants. \nAs a bonus\, Karen will also be hosting a drawing during the Grand Illumination and Open House Festivals for a $30 gift certificate good towards products and services provided by Karen. \nWalk-ins are welcome; however\, it is recommended that you book your reading in advance. \nTo book your reading today\, call 215-738-5538 or email Karen at SpiritMedium@comcast.net. \nHope to see you there!
URL:https://healingspiritwithlove.com/event/grand-illumination-at-peddlers-village/
LOCATION:Let’s Steep (Bekky’s Village Workshop)\, Store #68 Peddler’s Village\, 5750 Upper York Road\, New Hope\, PA\, 18938\, United States
CATEGORIES:Art,Book Signing,Charity Event,Festival,Mediumship,Readings,shopping,Spiritual Art
END:VEVENT
BEGIN:VEVENT
DTSTART;TZID=America/New_York:20161106T110000
DTEND;TZID=America/New_York:20161106T170000
DTSTAMP:20260421T183820
CREATED:20160324T191354Z
LAST-MODIFIED:20160904T174051Z
UID:764-1478430000-1478451600@healingspiritwithlove.com
SUMMARY:Mediumship and Book Signing Event at Peddler's Village Apple Festival!
DESCRIPTION:Join Spirit Medium and Author Karen T. Hluchan for a special mediumship and book signing event hosted by Bekky’s Village Workshop at Peddler’s Village on Sunday\, November 6 from 11am until 5pm! \nSpirit Medium Karen T. Hluchan\, who has helped thousands of people throughout the world with the messages and guidance she has received through her connection with heaven\, will be discussing how spirit communication works and will be providing active demonstrations of mediumship by bringing through messages from loved ones in spirit and the angels for those in attendance. \nMediumship demonstrations will take place at 12pm\, 2pm and 4pm\, and will last approximately 30-minutes each. Between demonstrations\, \nKaren will be signing copies of her book\, How Have You Loved?\, with messages from loved ones in spirit and the angels. \nKaren’s beautifully painted Spirit Animal Art prints and greeting cards will also be available for you to learn about the spirit animals that guide you. When painting these powerful images\, Karen channeled the spirits of the magnificent animals\, bringing forth their strengths. With each greeting card and print purchased\, she makes a donation to the World Wildlife Fund to help with the conservation of the earth and its beautiful creatures. \nIn addition to wonderful local honeys and delicious teas\, Bekky’s is hosting a wonderful array of local artisans and authors who will be there to chat about their works\, as well as personally sign copies of their books for you. It will be a great kick-off to your holiday shopping! \nEnjoy delicious apple treats\, live music\, fantastic shopping\, and more! \nBonus: As a thank you for attending this event\, Karen is hosting a drawing for a $30 gift certificate good toward products and services provided by Spirit Medium Karen T. Hluchan.
URL:https://healingspiritwithlove.com/event/mediumship-and-book-signing-event-at-peddlers-village-apple-festival-2/
LOCATION:Let’s Steep (Bekky’s Village Workshop)\, Store #68 Peddler’s Village\, 5750 Upper York Road\, New Hope\, PA\, 18938\, United States
CATEGORIES:Art,Book Signing,Festival,Mediumship,Mediumship Demo and Book Signing,Mediumship Spiritual Art and Book Signing,shopping,Spiritual Art
END:VEVENT
BEGIN:VEVENT
DTSTART;TZID=America/New_York:20161105T110000
DTEND;TZID=America/New_York:20161105T170000
DTSTAMP:20260421T183820
CREATED:20160324T191158Z
LAST-MODIFIED:20160904T172630Z
UID:762-1478343600-1478365200@healingspiritwithlove.com
SUMMARY:Mediumship and Book Signing Event at Peddler's Village Apple Festival!
DESCRIPTION:Join Spirit Medium and Author Karen T. Hluchan for a special mediumship and book signing event hosted by Bekky’s Village Workshop at Peddler’s Village on Saturday\, November 5 from 11am until 5pm! \nSpirit Medium Karen T. Hluchan\, who has helped thousands of people throughout the world with the messages and guidance she has received through her connection with heaven\, will be discussing how spirit communication works and will be providing active demonstrations of mediumship by bringing through messages from loved ones in spirit and the angels for those in attendance. \nMediumship demonstrations will take place at 12pm\, 2pm and 4pm\, and will last approximately 30-minutes each. Between demonstrations\, \nKaren will be signing copies of her book\, How Have You Loved?\, with messages from loved ones in spirit and the angels. \nKaren’s beautifully painted Spirit Animal Art prints and greeting cards will also be available for you to learn about the spirit animals that guide you. When painting these powerful images\, Karen channeled the spirits of the magnificent animals\, bringing forth their strengths. With each greeting card and print purchased\, she makes a donation to the World Wildlife Fund to help with the conservation of the earth and its beautiful creatures. \nIn addition to wonderful local honeys and delicious teas\, Bekky’s is hosting a wonderful array of local artisans and authors who will be there to chat about their works\, as well as personally sign copies of their books for you. It will be a great kick-off to your holiday shopping! \nEnjoy delicious apple treats\, live music\, fantastic shopping\, and more! \nBonus: As a thank you for attending this event\, Karen is hosting a drawing for a $30 gift certificate good toward products and services provided by Spirit Medium Karen T. Hluchan.
URL:https://healingspiritwithlove.com/event/mediumship-and-book-signing-event-at-peddlers-village-apple-festival/
LOCATION:Let’s Steep (Bekky’s Village Workshop)\, Store #68 Peddler’s Village\, 5750 Upper York Road\, New Hope\, PA\, 18938\, United States
CATEGORIES:Art,Book Signing,Festival,Mediumship,Mediumship Demo and Book Signing,Mediumship Spiritual Art and Book Signing,shopping,Spiritual Art
END:VEVENT
BEGIN:VEVENT
DTSTART;TZID=America/New_York:20161016T110000
DTEND;TZID=America/New_York:20161016T170000
DTSTAMP:20260421T183820
CREATED:20160831T005918Z
LAST-MODIFIED:20160831T005918Z
UID:976-1476615600-1476637200@healingspiritwithlove.com
SUMMARY:October Feast Festival at Peddler's Village!
DESCRIPTION:Enjoy messages from your loved ones in spirit and the angel with Spirit Medium Karen T. Hluchan during the Peddler’s Village October Feast celebration Saturday\, October 15 and Sunday\, October 16 from 11am until 5pm each day! \nDuring this Bavarian-style celebration with delicious culinary treats\, live music and more\, Karen will be providing readings (standard pricing applies for 30-minute and 1-hour readings with the option of a 15-minute reading for $35) at Bekky’s Village Workshop\, store 68\, in Peddler’s Village. \nIn addition\, Karen will be signing copies of her book\, How Have You Loved?\, with messages from loved ones in spirit and the angels. Karen’s beautifully painted Spirit Animal Art prints and greeting cards will also be available for you to learn about the spirit animals that guide you. When painting these powerful images\, Karen channeled the spirits of the magnificent animals\, bringing forth their strengths. With each greeting card and print purchased\, she makes a donation to the World Wildlife Fund to help with the conservation of the earth and its beautiful creatures. \nIn addition to wonderful local honeys and delicious teas\, Bekky’s is hosting a wonderful array of local artisans and authors who will be there to chat about their works\, as well as personally sign copies of their books for you. It will be a great kick-off to your holiday shopping! \nAs a bonus\, Karen will also be hosting a drawing during this event for a $30 gift certificate good towards products and services provided by Karen. \nWalk-ins for readings are welcome; however\, booking your reading in advance is recommended. \nTo book your spirit medium reading or angel reading with Karen\, call 215-738-5538 or email SpiritMedium@comcast.net.
URL:https://healingspiritwithlove.com/event/october-feast-festival-at-peddlers-village-2/
LOCATION:Let’s Steep (Bekky’s Village Workshop)\, Store #68 Peddler’s Village\, 5750 Upper York Road\, New Hope\, PA\, 18938\, United States
CATEGORIES:Art,Book Signing,Festival,Mediumship,Readings,shopping,Spiritual Art
END:VEVENT
BEGIN:VEVENT
DTSTART;TZID=America/New_York:20161015T110000
DTEND;TZID=America/New_York:20161015T170000
DTSTAMP:20260421T183820
CREATED:20160831T005357Z
LAST-MODIFIED:20161013T142319Z
UID:974-1476529200-1476550800@healingspiritwithlove.com
SUMMARY:October Feast Festival at Peddler's Village!
DESCRIPTION:Enjoy messages from your loved ones in spirit and the angel with Spirit Medium Karen T. Hluchan during the Peddler’s Village October Feast celebration Saturday\, October 15 and Sunday\, October 16 from 11am until 5pm each day! \nDuring this Bavarian-style celebration with delicious culinary treats\, live music and more\, Karen will be providing readings (standard pricing applies for 30-minute and 1-hour readings with the option of a 15-minute reading for $35) at Bekky’s Village Workshop\, store 68\, in Peddler’s Village.  Note: All readings are booked for this event. \nIn addition\, Karen will be signing copies of her book\, How Have You Loved?\, with messages from loved ones in spirit and the angels. Karen’s beautifully painted Spirit Animal Art prints and greeting cards will also be available for you to learn about the spirit animals that guide you. When painting these powerful images\, Karen channeled the spirits of the magnificent animals\, bringing forth their strengths. With each greeting card and print purchased\, she makes a donation to the World Wildlife Fund to help with the conservation of the earth and its beautiful creatures. \nIn addition to wonderful local honeys and delicious teas\, Bekky’s is hosting a wonderful array of local artisans and authors who will be there to chat about their works\, as well as personally sign copies of their books for you. It will be a great kick-off to your holiday shopping! \nAs a bonus\, Karen will also be hosting a drawing during this event for a $30 gift certificate good towards products and services provided by Karen. \nNote: All readings are now booked for this event.
URL:https://healingspiritwithlove.com/event/october-feast-festival-at-peddlers-village/
LOCATION:Let’s Steep (Bekky’s Village Workshop)\, Store #68 Peddler’s Village\, 5750 Upper York Road\, New Hope\, PA\, 18938\, United States
CATEGORIES:Art,Book Signing,Festival,Mediumship,Readings,shopping,Spiritual Art
END:VEVENT
BEGIN:VEVENT
DTSTART;TZID=America/New_York:20160924T100000
DTEND;TZID=America/New_York:20160924T180000
DTSTAMP:20260421T183820
CREATED:20160810T203559Z
LAST-MODIFIED:20160829T225445Z
UID:910-1474711200-1474740000@healingspiritwithlove.com
SUMMARY:Psychic Saturday Fair in Phoenixville\, PA!
DESCRIPTION:Enjoy a beautiful day of readings and shopping with a great selection of spiritual vendors in the heart of downtown Phoenixville\, PA! \nStop by Spirit Medium Karen T. Hluchan’s booth for a reading (standard pricing applies for 30-minute and 1-hour readings with the added option for a 15-minute reading for $35)\, to pick up a signed edition of her book How Have You Loved?\, or discover your spirit animal through Karen’s signed Spirit Animal Art prints and greeting cards. \nAs a special treat\, Karen will be providing a gallery-style group reading at Molly McGuire’s for donation only from 5pm-6pm. As with all of her Spirit Animal Art\, a portion of the proceeds from the gallery-style group reading will be donated to the World Wildlife Fund to support wildlife conservation. \nAs a bonus\, Karen is hosting a drawing at her booth and during the gallery-style reading for a $30 gift certificate\, good towards any of the products and services she offers. \nCome on out and explore your past\, present\, and future through this wonderful event hosted by Best Psychic Source based in Phoenixville\, PA! \nLooking forward to seeing you there!
URL:https://healingspiritwithlove.com/event/psychic-saturday-fair-in-phoenixville-pa/
LOCATION:Downtown Phoenixville\, Phoenixville\, PA\, 19460\, United States
CATEGORIES:Art,Book Signing,Charity Event,Festival,Mediumship,Mediumship Demo and Book Signing,Mediumship Spiritual Art and Book Signing,Readings,Spiritual Art
ORGANIZER;CN="Karen T Hluchan":MAILTO:SpiritMedium@comcast.net
END:VEVENT
BEGIN:VEVENT
DTSTART;TZID=America/New_York:20160625T110000
DTEND;TZID=America/New_York:20160625T150000
DTSTAMP:20260421T183820
CREATED:20160618T181736Z
LAST-MODIFIED:20160618T181738Z
UID:847-1466852400-1466866800@healingspiritwithlove.com
SUMMARY:Paris in the Village - Art and Readings at Peddler's Village!
DESCRIPTION:On Saturday\, June 25 from 11am until 3pm\, Spirit Medium Karen T. Hluchan will be providing spirit medium and angel readings at Bekky’s Village Workshop\, store #68\, in Peddler’s Village\, Lahaska\, PA. \nIn addition to her readings\, Karen is unveiling her spiritual fine art collection of wildlife prints during this event. Each painting and greeting card includes the spiritual meaning of the animal. With each purchase of Karen’s artwork\, a portion of the proceeds will be donated to the World Wildlife Fund. \nEnjoy Paris in the Village with French-themed foods and atmosphere. In addition to the readings Karen will be providing (see pricing info here)\, Bekky’s will be hosting the local artisans and authors Thursday\, June 23 through Sunday\, June 26. Meet with them\, explore their beautiful works\, and enjoy the welcoming atmosphere with a delicious cup of tea. \nLooking forward to seeing you at this event! \n 
URL:https://healingspiritwithlove.com/event/paris-in-the-village-art-and-readings-at-peddlers-village/
LOCATION:Let’s Steep (Bekky’s Village Workshop)\, Store #68 Peddler’s Village\, 5750 Upper York Road\, New Hope\, PA\, 18938\, United States
CATEGORIES:Festival,Mediumship,Readings
END:VEVENT
END:VCALENDAR